BEGIN:VCALENDAR
PRODID:-//AT Content Types//AT Event//EN
VERSION:2.0
METHOD:PUBLISH
BEGIN:VEVENT
DTSTAMP:20260423T114504Z
CREATED:20131204T160641Z
UID:ATEvent-9ab04e6612224a4e00963a5e23d81a1e
LAST-MODIFIED:20150323T155031Z
SUMMARY:ABIERTO también durante este puente
DTSTART:20131206T090000Z
DTEND:20131208T180000Z
DESCRIPTION:Los días 6\, 7 y 8 de diciembre el museo permanecerá ABI
 ERTO de 10.00 a 14.00 y de 16.00 a 19.00.
LOCATION:Museo Zumalakarregi
CATEGORIES:puente
CONTACT:943889900
CLASS:PUBLIC
END:VEVENT
END:VCALENDAR
