BEGIN:VCALENDAR
PRODID:-//AT Content Types//AT Event//EN
VERSION:1.0
BEGIN:VEVENT
DTSTART:20260102T100000Z
DTEND:20260102T113000Z
DCREATED:20251209T144837Z
UID:ATEvent-02af891562d84d93a75d9b6e46855d50
SEQUENCE:0
LAST-MODIFIED:20251209T145025Z
SUMMARY:Calendario de invierno del 2026
DESCRIPTION:Taller navideño para niñas y niños
LOCATION:Museo Zumalakarregi
PRIORITY:3
TRANSP:0
END:VEVENT
END:VCALENDAR
