BEGIN:VCALENDAR
PRODID:-//AT Content Types//AT Event//EN
VERSION:1.0
BEGIN:VEVENT
DTSTART:20180518T080000Z
DTEND:20180520T120000Z
DCREATED:20180509T114435Z
UID:ATEvent-a00bfb95adfa4d9baf7c0a229ac914d1
SEQUENCE:0
LAST-MODIFIED:20180514T091043Z
SUMMARY:Día Internacional de los Museos 2018
DESCRIPTION:Puertas abiertas
LOCATION:Museo Zumalakarregi
PRIORITY:3
TRANSP:0
END:VEVENT
END:VCALENDAR
