BEGIN:VCALENDAR
PRODID:-//AT Content Types//AT Event//EN
VERSION:2.0
METHOD:PUBLISH
BEGIN:VEVENT
DTSTAMP:20260424T040721Z
CREATED:20141129T104408Z
UID:ATEvent-0ced5be1832ee1a480e8dd3efc0b3a83
LAST-MODIFIED:20150323T155033Z
SUMMARY:Exposicion de fotografias del concurso fotográfico #trenzubiak150urte.
DTSTART:20141119T100000Z
DTEND:20141130T180000Z
DESCRIPTION:De miércoles a viernes por la mañana. Fines de semana y 
 festivos\, mañana y tarde.
LOCATION:En el Museo Zumalakarregi
CATEGORIES:150 años del viaducto
CLASS:PUBLIC
END:VEVENT
END:VCALENDAR
