BEGIN:VCALENDAR
PRODID:-//AT Content Types//AT Event//EN
VERSION:2.0
METHOD:PUBLISH
BEGIN:VEVENT
DTSTAMP:20260422T113834Z
CREATED:20110602T085948Z
UID:ATEvent-c3da1ba78bf3675a05fd69035cf843f7
LAST-MODIFIED:20150323T155023Z
SUMMARY:En Junio...
DTSTART:20110601T080000Z
DTEND:20110630T170000Z
DESCRIPTION:Actividades organizadas por el Museo Zumalakarregi del 1 a
 l 30 de junio
LOCATION:Museo Zumalakarregi\, Ormaiztegi
CATEGORIES:programación
CONTACT:943889900\, mzumalakarregi@gipuzkoa.net
CLASS:PUBLIC
END:VEVENT
END:VCALENDAR
