BEGIN:VCALENDAR
PRODID:-//AT Content Types//AT Event//EN
VERSION:1.0
BEGIN:VEVENT
DTSTART:20120419T080000Z
DTEND:20120502T170000Z
DCREATED:20120417T131614Z
UID:ATEvent-be9dafb66d1ff9cef9d540e294306989
SEQUENCE:0
LAST-MODIFIED:20150323T155026Z
SUMMARY:Exposición Fotográfica "Centroamericanas"
DESCRIPTION:La exposición fotográfica "Centroamericanas: así somos\
 , así luchamos" en el museo hasta el próximo 2 de mayo
LOCATION:Museo Zumalakarregi
PRIORITY:3
TRANSP:0
END:VEVENT
END:VCALENDAR
