BEGIN:VCALENDAR
PRODID:-//AT Content Types//AT Event//EN
VERSION:1.0
BEGIN:VEVENT
DTSTART:20110528T153000Z
DTEND:20110528T170000Z
DCREATED:20110513T160857Z
UID:ATEvent-f4592b71a148b54fc92e67fff24801fd
SEQUENCE:0
LAST-MODIFIED:20150323T155022Z
SUMMARY:Juegos de mesa de la época
DESCRIPTION:Conoceremos y también jugaremos con los juegos de mesa co
 n los que jugaban nuestros antepasados tanto a finales del siglo XIX c
 omo a principios del XIX.
LOCATION:Caserío Iriarte Erdikoa\, Ormaiztegi
PRIORITY:3
TRANSP:0
END:VEVENT
END:VCALENDAR
