BEGIN:VCALENDAR
PRODID:-//AT Content Types//AT Event//EN
VERSION:2.0
METHOD:PUBLISH
BEGIN:VEVENT
DTSTAMP:20260421T212012Z
CREATED:20101026T111518Z
UID:ATEvent-66aef6397c9a12dd29abf75683162fd4
LAST-MODIFIED:20150323T155021Z
SUMMARY:"Loreask Asmatzen: naturalistas europeos en el País Vasco"
DTSTART:20101026T080000Z
DTEND:20110123T190000Z
DESCRIPTION:Una de las exposiciones itinerantes del Museo Zumalakarreg
 i\, "Loreak Asmatzen: Naturalistas europeos en el País Vasco" expuest
 a en Torre Madariaga hasta el 23 de enero del 2011.
LOCATION:Busturia\, Bizkaia
CATEGORIES:Itinerancia de la exposición
CONTACT:Lurdes Azpiazu\, 943889900 \, lazpiazu@k6gestioncultural.com
URL:http://www.loreakasmatzen.net/es/index.php?
CLASS:PUBLIC
END:VEVENT
END:VCALENDAR
