BEGIN:VCALENDAR
PRODID:-//AT Content Types//AT Event//EN
VERSION:1.0
BEGIN:VEVENT
DTSTART:20120421T153000Z
DTEND:20120421T170000Z
DCREATED:20120413T061020Z
UID:ATEvent-004c74de0bcda8dfcba159a649f5e6b6
SEQUENCE:0
LAST-MODIFIED:20150323T155026Z
SUMMARY:Objetos cotidianos
DESCRIPTION:Conoceremos algunos de los utensilios más utilizados en d
 iferentes ámbitos durante el siglo XIX\, de 17.30 a 19.00 de la tarde
 . Es necesario reservar plaza.
LOCATION:Zumalakarregi Museoa
PRIORITY:3
TRANSP:0
END:VEVENT
END:VCALENDAR
