BEGIN:VCALENDAR
PRODID:-//AT Content Types//AT Event//EN
VERSION:2.0
METHOD:PUBLISH
BEGIN:VEVENT
DTSTAMP:20260423T162329Z
CREATED:20120928T153214Z
UID:ATEvent-096d08b96d6af3d7f03df6fba38d821d
LAST-MODIFIED:20150323T155028Z
SUMMARY:Taller de manualidades: máscaras
DTSTART:20130102T100000Z
DTEND:20130102T120000Z
DESCRIPTION:Actividades donde los/as niños/as realizarán manualidade
 s reutilizando materiales reciclados.
LOCATION:Museo Zumalakarregi
CATEGORIES:navidad
CLASS:PUBLIC
END:VEVENT
END:VCALENDAR
