BEGIN:VCALENDAR
PRODID:-//AT Content Types//AT Event//EN
VERSION:1.0
BEGIN:VEVENT
DTSTART:20121201T160000Z
DTEND:20121201T173000Z
DCREATED:20120928T140907Z
UID:ATEvent-32388fd31b1160640ea3a008025b946a
SEQUENCE:0
LAST-MODIFIED:20150323T155028Z
SUMMARY:Taller en familia: Protagonistas de la época
DESCRIPTION:Descubre el siglo XIX con la perspectiva del XXI pasando u
 n buen rato en familia.
LOCATION:Museo Zumalakarregi
PRIORITY:3
TRANSP:0
END:VEVENT
END:VCALENDAR
