BEGIN:VCALENDAR
PRODID:-//AT Content Types//AT Event//EN
VERSION:2.0
METHOD:PUBLISH
BEGIN:VEVENT
DTSTAMP:20260423T220152Z
CREATED:20111019T143044Z
UID:ATEvent-39df73ead8c27c3fd679a7340b87be3f
LAST-MODIFIED:20150323T155024Z
SUMMARY:Taller "Valientes guerreros/as"
DTSTART:20111022T153000Z
DTEND:20111022T170000Z
LOCATION:Caserío Iriarte Erdikoa
CATEGORIES:sábado, taller
CONTACT:943889900\, mzumalakarregi@gipuzkoa.net
URL:http://www.zumalakarregimuseoa.net/actividades/educacion/talleres/talleres-para-familias
CLASS:PUBLIC
END:VEVENT
END:VCALENDAR
