BEGIN:VCALENDAR
PRODID:-//AT Content Types//AT Event//EN
VERSION:1.0
BEGIN:VEVENT
DTSTART:20230419T080000Z
DTEND:20230731T170000Z
DCREATED:20230424T111232Z
UID:ATEvent-4354b8cec34e4259ab97c82ad51b6e5a
SEQUENCE:0
LAST-MODIFIED:20230428T145713Z
SUMMARY:MusealiaK 10: Cromolitografía de Carlos VII
LOCATION:Museo Zumalakarregi
PRIORITY:3
TRANSP:0
END:VEVENT
END:VCALENDAR
