BEGIN:VCALENDAR
PRODID:-//AT Content Types//AT Event//EN
VERSION:1.0
BEGIN:VEVENT
DTSTART:20260124T153000Z
DTEND:20260124T173000Z
DCREATED:20260122T162244Z
UID:ATEvent-9d553c291be7499cb8b593a30d09ea53
SEQUENCE:0
LAST-MODIFIED:20260122T162401Z
SUMMARY:Periodistas del siglo XIX
DESCRIPTION:Taller familiar
LOCATION:Museo Zumalakarregi
PRIORITY:3
TRANSP:0
END:VEVENT
END:VCALENDAR
