BEGIN:VCALENDAR
PRODID:-//AT Content Types//AT Event//EN
VERSION:2.0
METHOD:PUBLISH
BEGIN:VEVENT
DTSTAMP:20260420T155840Z
CREATED:20260420T124903Z
UID:ATEvent-2e774ffa66b14bb9ba61323aaef8ca38
LAST-MODIFIED:20260420T132347Z
SUMMARY:"Soinu ak zeinu ak soinu"
DTSTART:20260423T090000Z
DTEND:20261230T130000Z
DESCRIPTION:Propuesta expositiva de Maialen Lujanbio Zugasti\, en el m
 arco del programa «Prácticas de archivo» del Museo Zumalakarregi.
LOCATION:Museo Zumalakarregi
CONTACT:943 88 99 00 / 659 43 45 66\, mzumalakarregi@gipuzkoa.eus
CLASS:PUBLIC
END:VEVENT
END:VCALENDAR
