BEGIN:VCALENDAR
PRODID:-//AT Content Types//AT Event//EN
VERSION:1.0
BEGIN:VEVENT
DTSTART:20231021T140000Z
DTEND:20231021T170000Z
DCREATED:20230912T142435Z
UID:ATEvent-4ed0d830e0c94277899c763fbaabb322
SEQUENCE:0
LAST-MODIFIED:20230915T133809Z
SUMMARY:Taller de confección (3ª sesión de 4)
DESCRIPTION:En el marco de las Jornadas Europeas del Patrimonio\, bajo
  el lema "Patrimonio vivo"\, este año os invitamos a participar en un
  taller de confección.
PRIORITY:3
TRANSP:0
END:VEVENT
END:VCALENDAR
