BEGIN:VCALENDAR
PRODID:-//AT Content Types//AT Event//EN
VERSION:1.0
BEGIN:VEVENT
DTSTART:20231007T140000Z
DTEND:20231007T170000Z
DCREATED:20230912T135410Z
UID:ATEvent-e0c32c27c8f44903bd9255c7a22d9302
SEQUENCE:0
LAST-MODIFIED:20230915T134119Z
SUMMARY:Taller de confección (1ª sesión de 4)
DESCRIPTION:En el marco de las Jornadas Europeas del Patrimonio\, bajo
  el lema "Patrimonio vivo!"\, este año os invitamos a participar en u
 n taller de confección.
LOCATION:Museo Zumalakarregi
PRIORITY:3
TRANSP:0
END:VEVENT
END:VCALENDAR
