BEGIN:VCALENDAR
PRODID:-//AT Content Types//AT Event//EN
VERSION:2.0
METHOD:PUBLISH
BEGIN:VEVENT
DTSTAMP:20260419T163414Z
CREATED:20230103T151042Z
UID:ATEvent-9f134bc1d0d244a69df500a41dc9c6c8
LAST-MODIFIED:20230103T153054Z
SUMMARY:Talleres navideños "Somos igual de chocolateros que Tomás"
DTSTART:20230104T100000Z
DTEND:20230104T123000Z
DESCRIPTION:El 4 de enero a las 11:00h tendrá lugar el último taller
  navideño en el Museo Zumalakarregi.
LOCATION:Museo Zumalakarregi
CONTACT:Museo Zumalakarregi\, 659 43 45 66\, mzumalakarregi@gipuzkoa.eus
CLASS:PUBLIC
END:VEVENT
END:VCALENDAR
