BEGIN:VCALENDAR
PRODID:-//AT Content Types//AT Event//EN
VERSION:2.0
METHOD:PUBLISH
BEGIN:VEVENT
DTSTAMP:20260420T093200Z
CREATED:20240903T111911Z
UID:ATEvent-4c9480380c0e442ea261ea7123bd036f
LAST-MODIFIED:20240903T113239Z
SUMMARY:Tertulia con Mikel Alberdi
DTSTART:20240912T170000Z
DTEND:20240912T183000Z
DESCRIPTION:Prentsa Satirikoa XIX. mendean
LOCATION:Museo Zumalakarregi
CONTACT:943 88 99 00 / 659 43 45 66\, mzumalakarregi@gipuzkoa.eus
CLASS:PUBLIC
END:VEVENT
END:VCALENDAR
