BEGIN:VCALENDAR
PRODID:-//AT Content Types//AT Event//EN
VERSION:2.0
METHOD:PUBLISH
BEGIN:VEVENT
DTSTAMP:20260425T185151Z
CREATED:20251209T131950Z
UID:ATEvent-cce1feb24bca407eb7bcf7d772471b9a
LAST-MODIFIED:20251209T144902Z
SUMMARY:Postales de año nuevo
DTSTART:20251226T100000Z
DTEND:20251226T113000Z
DESCRIPTION:Taller de navidad para niñas y niños
LOCATION:Zumalakarregi museoa
CONTACT:943 88 99 00 / 659 43 45 66\, mzumalakarregi@gipuzkoa.eus
CLASS:PUBLIC
END:VEVENT
END:VCALENDAR
