BEGIN:VCALENDAR
PRODID:-//AT Content Types//AT Event//EN
VERSION:1.0
BEGIN:VEVENT
DTSTART:20260102T100000Z
DTEND:20260102T113000Z
DCREATED:20251209T144837Z
UID:ATEvent-cdaecfa25a844f6f8d03ca8841ca9529
SEQUENCE:0
LAST-MODIFIED:20251209T145025Z
SUMMARY:2026ko neguko egutegia
DESCRIPTION:Haurrentzako gabonetako tailerra
LOCATION:Zumalakarregi museoa
PRIORITY:3
TRANSP:0
END:VEVENT
END:VCALENDAR
