BEGIN:VCALENDAR
PRODID:-//AT Content Types//AT Event//EN
VERSION:1.0
BEGIN:VEVENT
DTSTART:20250221T100000Z
DTEND:20250422T170000Z
DCREATED:20250127T095657Z
UID:ATEvent-b1b3e37423db4cd78310046f6149eb03
SEQUENCE:0
LAST-MODIFIED:20250220T091546Z
SUMMARY:Artxibo praktika 1
DESCRIPTION:Pedro G. Romero. Scénario. ZORRAREN Z
LOCATION:Zumalakarregi museoa
PRIORITY:3
TRANSP:0
END:VEVENT
END:VCALENDAR
