BEGIN:VCALENDAR
PRODID:-//AT Content Types//AT Event//EN
VERSION:2.0
METHOD:PUBLISH
BEGIN:VEVENT
DTSTAMP:20260421T103124Z
CREATED:20120417T131614Z
UID:ATEvent-5a91f9852afa8fb33574728614051088
LAST-MODIFIED:20150323T155026Z
SUMMARY:"Amerika Erdialdeko Emakumeak" Argazki Erakusketa
DTSTART:20120419T080000Z
DTEND:20120502T170000Z
DESCRIPTION:"Erdialdeko Amerikako emakumeok: halakoxeak gara\, halaxe 
 borrokatzen gara" aldi bateko argazki erakusketa ikusgai izango duzue 
 maiatzaren 2a bitartean
LOCATION:Zumalakarregi Museoa
CATEGORIES:argazkiak, erakusketa
CONTACT:943889900\, mzumalakarregi@gmail.com
CLASS:PUBLIC
END:VEVENT
END:VCALENDAR
