BEGIN:VCALENDAR
PRODID:-//AT Content Types//AT Event//EN
VERSION:2.0
METHOD:PUBLISH
BEGIN:VEVENT
DTSTAMP:20260422T090451Z
CREATED:20120928T140907Z
UID:ATEvent-7a4dc82914047939959ef1f65277aba7
LAST-MODIFIED:20150323T155028Z
SUMMARY:Tailerra familian: Garaiko protagonistak
DTSTART:20121201T160000Z
DTEND:20121201T173000Z
DESCRIPTION:Familian arratsalde atsegina igaro eta XIX.mendea egungo i
 kuspegitik ezagutzeko aukera.
LOCATION:Zumalakarregi Museoa
CATEGORIES:7-12 urte
URL:http://www.zumalakarregimuseoa.net/ekintzak-eta-zerbitzuak/hezkuntza/lantegiak/familientzako-lantegiak
CLASS:PUBLIC
END:VEVENT
END:VCALENDAR
