BEGIN:VCALENDAR
PRODID:-//AT Content Types//AT Event//EN
VERSION:2.0
METHOD:PUBLISH
BEGIN:VEVENT
DTSTAMP:20260421T155639Z
CREATED:20120413T061020Z
UID:ATEvent-c121b28726008605e55ea95a60b3e019
LAST-MODIFIED:20150323T155026Z
SUMMARY:Eguneroko objektuak
DTSTART:20120421T153000Z
DTEND:20120421T170000Z
DESCRIPTION:Apirileko larunbat arratsaldetan "XIX.mendeko lanabes" des
 berdinak ezagutzeko tailerrak antolatu ditugu\, 17.30tatik 19.00. Aurr
 ez izena-ematea beharrezkoa da.
LOCATION:Zumalakarregi Museoa
CATEGORIES:tailerra, familian
CONTACT:943889900\, mzumalakarregi@gmail.com
URL:http://www.zumalakarregimuseoa.net/ekintzak-eta-zerbitzuak/hezkuntza/lantegiak/familientzako-lantegiak
CLASS:PUBLIC
END:VEVENT
END:VCALENDAR
