BEGIN:VCALENDAR
PRODID:-//AT Content Types//AT Event//EN
VERSION:1.0
BEGIN:VEVENT
DTSTART:20110601T080000Z
DTEND:20110630T170000Z
DCREATED:20110602T085948Z
UID:ATEvent-ffc15e17d0f74ba8b836454a5d0146c0
SEQUENCE:0
LAST-MODIFIED:20150323T155023Z
SUMMARY:Ekainean zer
DESCRIPTION:Ekainaren 1etik 30era bitartean Zumalakarregi Museoak anto
 latutako ekitaldiak
LOCATION:Zumalakarregi Museoa\, Ormaiztegi
PRIORITY:3
TRANSP:0
END:VEVENT
END:VCALENDAR
