BEGIN:VCALENDAR
PRODID:-//AT Content Types//AT Event//EN
VERSION:2.0
METHOD:PUBLISH
BEGIN:VEVENT
DTSTAMP:20260421T110607Z
CREATED:20110513T160857Z
UID:ATEvent-13bc0e876bda3550f2d7acba220ba81a
LAST-MODIFIED:20150323T155022Z
SUMMARY:Garaiko mahai jokoak
DTSTART:20110528T153000Z
DTEND:20110528T170000Z
DESCRIPTION:Tailer honetan XIX.mende amaieran zein XX.mende hasieran E
 uskal Herriko baserri eta etxeetan jolastu hoi ziren mahai jokoak ezag
 utuko ditugu\, baita hauekin jostatu ere!
LOCATION:Iriarte Erdikoa Baserria\, Ormaiztegi
CATEGORIES:tailerra
CONTACT:943889900\, mzumalakarregi@gipuzkoa.net
CLASS:PUBLIC
END:VEVENT
END:VCALENDAR
