BEGIN:VCALENDAR
PRODID:-//AT Content Types//AT Event//EN
VERSION:2.0
METHOD:PUBLISH
BEGIN:VEVENT
DTSTAMP:20260420T032520Z
CREATED:20120211T105119Z
UID:ATEvent-55ffea2a7af6c87ef004e79cdf9db720
LAST-MODIFIED:20150323T155025Z
SUMMARY:Irudien esanhaia
DTSTART:20120211T163000Z
DTEND:20120211T180000Z
DESCRIPTION:XIX.mendeko zenbait egunkari eta aldizkarietan irudiek dut
 en garrantziaz arituko gara. Mendean zehar irudi bidezko albisteek iza
 ten dituzten hobekuntza eta aldaketa nagusienak deskubrituz.
LOCATION:Zumalakarregi Museoa
CATEGORIES:tailerra, familian
CONTACT:943889900\, mzumalakarregi@gipuzkoa.net
URL:http://www.zumalakarregimuseoa.net/ekintzak-eta-zerbitzuak/hezkuntza/lantegiak/familientzako-lantegiak
CLASS:PUBLIC
END:VEVENT
END:VCALENDAR
