BEGIN:VCALENDAR
PRODID:-//AT Content Types//AT Event//EN
VERSION:1.0
BEGIN:VEVENT
DTSTART:20110917T153000Z
DTEND:20110917T170000Z
DCREATED:20110908T150337Z
UID:ATEvent-9e2c43b41154e947697329531850d3fc
SEQUENCE:0
LAST-MODIFIED:20150323T155024Z
SUMMARY:Itsasoko garraiobideak: baporezko itsasontzia
DESCRIPTION:Garai honetan itsasoko garraiobideek izandako garrantzia a
 ztertuko dugu tailer honetan\, horretarako\, XIX.mende hasieran Euskal
  Herritik Ameriketarako joandako milaka lagunen nondik-norakoak modu d
 ibertigarri eta didaktikoan ezagutuz.
LOCATION:Iriarte Erdikoa Baserria
PRIORITY:3
TRANSP:0
END:VEVENT
END:VCALENDAR
