BEGIN:VCALENDAR
PRODID:-//AT Content Types//AT Event//EN
VERSION:1.0
BEGIN:VEVENT
DTSTART:20111029T153000Z
DTEND:20111029T170000Z
DCREATED:20111019T143942Z
UID:ATEvent-b20697992e6c846d82103d3b8d72fe8c
SEQUENCE:0
LAST-MODIFIED:20150323T155024Z
SUMMARY:"Pertsonaiekin antzerkia" tailerra
LOCATION:Iriarte Erdikoa Baserria
PRIORITY:3
TRANSP:0
END:VEVENT
END:VCALENDAR
