BEGIN:VCALENDAR
PRODID:-//AT Content Types//AT Event//EN
VERSION:2.0
METHOD:PUBLISH
BEGIN:VEVENT
DTSTAMP:20260423T085834Z
CREATED:20131204T160641Z
UID:ATEvent-e5d5bf454ee13e443018ce2e781a0377
LAST-MODIFIED:20150323T155031Z
SUMMARY:Zubian ere IREKITA
DTSTART:20131206T090000Z
DTEND:20131208T180000Z
DESCRIPTION:Abenduaren 6\, 7 zein 8an\, 10.00etatik 14.00etara eta 16.
 00etatik 19.00etara IREKITA egongo da museoa.
LOCATION:Zumalakarregi Museoa
CATEGORIES:zubia
CONTACT:943889900
CLASS:PUBLIC
END:VEVENT
END:VCALENDAR
