BEGIN:VCALENDAR
PRODID:-//AT Content Types//AT Event//EN
VERSION:2.0
METHOD:PUBLISH
BEGIN:VEVENT
DTSTAMP:20260425T185702Z
CREATED:20250909T073026Z
UID:ATEvent-b52a1a8379164596b41adafb786a9100
LAST-MODIFIED:20250916T144230Z
SUMMARY:"Iriarte Erdikoa: Baserritik museora"
DTSTART:20251005T090000Z
DTEND:20251005T103000Z
DESCRIPTION:Bisita komentatua + Hitzaldia
LOCATION:Zumalakarregi museoa
CONTACT:943 88 99 00 / 659 43 45 66\, mzumalakarregi@gipuzkoa.eus
CLASS:PUBLIC
END:VEVENT
END:VCALENDAR
