BEGIN:VCALENDAR
PRODID:-//AT Content Types//AT Event//EN
VERSION:1.0
BEGIN:VEVENT
DTSTART:20231021T140000Z
DTEND:20231021T170000Z
DCREATED:20230912T142435Z
UID:ATEvent-5a6f83d4237a4879a2681ed9e3720802
SEQUENCE:0
LAST-MODIFIED:20230915T133809Z
SUMMARY:Jantzigintzako tailerra (4tik 3.)
DESCRIPTION:Ondarearen Europako Jardunaldien barruan\, "Ondare bizirik
 !" lelopean\, aurten\, jantzigintza tailer batean parte hartzera gonbi
 datzen zaituztegu.
LOCATION:Zumalakarregi museoa
PRIORITY:3
TRANSP:0
END:VEVENT
END:VCALENDAR
