BEGIN:VCALENDAR
PRODID:-//AT Content Types//AT Event//EN
VERSION:1.0
BEGIN:VEVENT
DTSTART:20231007T140000Z
DTEND:20231007T170000Z
DCREATED:20230912T135410Z
UID:ATEvent-de4bf192e30e4045a1de4376de42804e
SEQUENCE:0
LAST-MODIFIED:20230915T134119Z
SUMMARY:Jantzigintzako tailerra (4tik 1.)
DESCRIPTION:Ondarearen Europako Jardunaldien barruan\, "Ondare bizirik
 !" lelopean\, aurten\, jantzigintza tailer batean parte hartzera gonbi
 datzen zaituztegu.
LOCATION:Zumalakarregi museoa
PRIORITY:3
TRANSP:0
END:VEVENT
END:VCALENDAR
