BEGIN:VCALENDAR
PRODID:-//AT Content Types//AT Event//EN
VERSION:1.0
BEGIN:VEVENT
DTSTART:20141115T103000Z
DTEND:20141116T180000Z
DCREATED:20141112T143419Z
UID:ATEvent-2d739d0c39bae1ea30a5326383f346cb
SEQUENCE:0
LAST-MODIFIED:20150323T155032Z
SUMMARY:Munduko Ondarearen asteburua Ormaiztegin
DESCRIPTION:Asteburu honetan Munduko Ondarearen Nazioarteko Eguna ospa
 tzeko gonbidapena luzatzen dizugu Zumalakarregi Museotik. Egitarau ber
 ezia prestatu dugu adin guztietako publikoari zuzenduta.
LOCATION:Ormaiztegi
PRIORITY:3
TRANSP:0
END:VEVENT
END:VCALENDAR
