BEGIN:VCALENDAR
PRODID:-//AT Content Types//AT Event//EN
VERSION:2.0
METHOD:PUBLISH
BEGIN:VEVENT
DTSTAMP:20260424T151840Z
CREATED:20211112T114730Z
UID:ATEvent-d9970bd9326d484db3d94ba75710bf4f
LAST-MODIFIED:20211214T131633Z
SUMMARY:"Pour Don Carlos" film emanaldia
DTSTART:20211216T173000Z
DTEND:20211216T190000Z
DESCRIPTION:"La capitana Alegría" zine mutua
LOCATION:Ormaiztegiko Gizarte Etxean
CONTACT:943 88 99 00 / 659 43 45 66\, mzumalakarregi@gipuzkoa.eus
CLASS:PUBLIC
END:VEVENT
END:VCALENDAR
