BEGIN:VCALENDAR
PRODID:-//AT Content Types//AT Event//EN
VERSION:2.0
METHOD:PUBLISH
BEGIN:VEVENT
DTSTAMP:20260420T154516Z
CREATED:20260420T124903Z
UID:ATEvent-62795922bad349b08251a2691df01dcd
LAST-MODIFIED:20260420T132347Z
SUMMARY:"Soinu ak zeinu ak soinu" Maialen Lujanbio Zugastiren erakusketa proposamena
DTSTART:20260423T090000Z
DTEND:20261230T130000Z
DESCRIPTION:Zumalakarregi Museoaren "Artxibo praktikak" programarako s
 ortua
LOCATION:Zumalakarregi museoa
CONTACT:943 88 99 00 / 659 43 45 66\, mzumalakarregi@gipuzkoa.eus
CLASS:PUBLIC
END:VEVENT
END:VCALENDAR
