BEGIN:VCALENDAR
PRODID:-//AT Content Types//AT Event//EN
VERSION:2.0
METHOD:PUBLISH
BEGIN:VEVENT
DTSTAMP:20260425T201651Z
CREATED:20251209T131950Z
UID:ATEvent-61623ea45a98496698bd936ff37cd08d
LAST-MODIFIED:20251209T144902Z
SUMMARY:Urte berriko postalak
DTSTART:20251226T100000Z
DTEND:20251226T113000Z
DESCRIPTION:Haurrentzako gabonetako tailerra
LOCATION:Zumalakarregi museoa
CONTACT:943 88 99 00 / 659 43 45 66\, mzumalakarregi@gipuzkoa.eus
CLASS:PUBLIC
END:VEVENT
END:VCALENDAR
